BEGIN:VCALENDAR
VERSION:2.0
PRODID:-//Museu Olímpic i de l&#039;Esport //NONSGML Events //EN
CALSCALE:GREGORIAN
X-WR-CALNAME:Museu Olímpic i de l&#039;Esport
BEGIN:VEVENT
CREATED:20260421T142410Z
UID:49373
DTEND;VALUE=DATE:20260506T190000
DTSTART;VALUE=DATE:20260506T180000
DTSTAMP:20260422T124512Z
LOCATION:
DESCRIPTION:La Fundació Barcelona Olímpica, en col·laboració amb la Biblioteca Bon Pastor – Josefina Castellví i el Centre d'Estudis – Arxiu Vilabesòs Baró de Viver - Bon Pastor, presenta el pròxim 6 de maig el llibre «Espais esportius que han fet història a Barcelona», una obra de referència que recupera la memòria històrica dels espais esportius que han contribuït a forjar la identitat esportiva de Barcelona. <p style="text-align: center"><a href="https://www.fundaciobarcelonaolimpica.es/ca/invitacio/"><strong>Sol·licitar invitació</strong></a></p> La publicació, elaborada pels autors <strong>Joan Manuel Surroca, Juli Pernas, Luís Sánchez, Pedro Hernández i Raül Vázquez,</strong> proposa un recorregut únic a través del temps descobrint més de 130 escenaris vinculats a la pràctica esportiva — entre ells gimnasos, pavellons, instal·lacions aquàtiques i espais urbans — des de finals del segle XIX fins a l'actualitat. El llibre ha estat desenvolupat des del Centre d'Estudis Olímpics Joan Antoni Samaranch, gestionat per la Fundació Barcelona Olímpica, consolidant el seu compromís amb la recerca i la difusió del coneixement sobre la història de l'esport. El llibre <em>«Espais esportius que han fet història a Barcelona»</em> ja està a la venda al Museu Olímpic i de l'Esport de Barcelona al preu de <strong>15€</strong>. <p style="text-align: center"><strong><a href="https://www.fundaciobarcelonaolimpica.es/ca/invitacio/">Sol·licitar invitació</a> </strong></p>
SUMMARY:Presentació llibre: Espais esportius que han fet història a Barcelona
ORGANIZER:Museu Olímpic i de l&#039\;Esport
URL;VALUE=URI:https://www.museuolimpicbcn.cat/ca/agenda/presentacio-llibre-espais-esportius-que-han-fet-historia-a-barcelona/
TRANSP:OPAQUE
BEGIN:VALARM
ACTION:DISPLAY
TRIGGER;VALUE=DATE-TIME:20260422T144512Z
DESCRIPTION:Reminder for Presentació llibre: Espais esportius que han fet història a Barcelona
END:VALARM
END:VEVENT
END:VCALENDAR
