BEGIN:VCALENDAR
VERSION:2.0
PRODID:-//Museu Olímpic i de l&#039;Esport //NONSGML Events //EN
CALSCALE:GREGORIAN
X-WR-CALNAME:Museu Olímpic i de l&#039;Esport
BEGIN:VEVENT
CREATED:20260421T161255Z
UID:49377
DTEND;VALUE=DATE:20260423T190000
DTSTART;VALUE=DATE:20260423T100000
DTSTAMP:20260422T122949Z
LOCATION:
DESCRIPTION:Amb motiu de la <strong>Diada de Sant Jordi</strong>, el Museu Olímpic i de l'Esport de Barcelona s'uneix a la tradició del llibre i la rosa d'una manera molt especial: tots els visitants que accedeixin al museu el 23 d'abril rebran, inclòs amb la seva entrada, un llibre de regal que podran escollir entre els títols de la col·lecció. Els visitants podran triar entre dues línies editorials de referència. D'una banda, els títols de la col·lecció Aula d'Història, que recull la història de l'esport, l'olimpisme i la vinculació de Barcelona amb tots dos. De l'altra, algunes edicions especials de Relats Solidaris de l'Esport, una col·lecció d'històries inspiradores protagonitzades per esportistes d'excepció, com ara <strong>Aitana Bonmatí o Ronald Araujo</strong>. Una iniciativa pensada per apropar la cultura esportiva a tots els públics i per celebrar, un any més, el dia del llibre i la rosa amb la passió que caracteritza el Museu Olímpic. 📅 <strong>23 d'abril · Sant Jordi · Museu Olímpic i de l'Esport de Barcelona 🎁 Un llibre inclòs amb cada entrada. Fins a exhaurir existències.</strong> Amb motiu de la Diada de Sant Jordi, <strong>únicament al Museu Olímpic i de l'Esport de Barcelona</strong>, podràs adquirir el llibre «<strong>Espais esportius que han fet història a Barcelona» </strong>al preu especial de 12€. Una oportunitat única per celebrar el dia del llibre i la rosa amb una obra imprescindible sobre el patrimoni esportiu de la nostra ciutat.
SUMMARY:Celebra Sant Jordi regalant un llibre amb cada entrada
ORGANIZER:Museu Olímpic i de l&#039\;Esport
URL;VALUE=URI:https://www.museuolimpicbcn.cat/ca/agenda/celebra-sant-jordi-regalant-un-llibre-amb-cada-entrada/
TRANSP:OPAQUE
BEGIN:VALARM
ACTION:DISPLAY
TRIGGER;VALUE=DATE-TIME:20260422T142949Z
DESCRIPTION:Reminder for Celebra Sant Jordi regalant un llibre amb cada entrada
END:VALARM
END:VEVENT
END:VCALENDAR
