BEGIN:VCALENDAR
VERSION:2.0
PRODID:-//Museu Olímpic i de l&#039;Esport //NONSGML Events //EN
CALSCALE:GREGORIAN
X-WR-CALNAME:Museu Olímpic i de l&#039;Esport
BEGIN:VEVENT
CREATED:20260421T142144Z
UID:49371
DTEND;VALUE=DATE:20260506T190000
DTSTART;VALUE=DATE:20260506T180000
DTSTAMP:20260422T125238Z
LOCATION:
DESCRIPTION:The Fundació Barcelona Olímpica (FBO), in collaboration with the Biblioteca Bon Pastor – Josefina Castellví and the Centre d'Estudis – Arxiu Vilabesòs Baró de Viver - Bon Pastor, will present on 6 May the book «Espais esportius que han fet història a Barcelona» (Sporting Spaces that Made History in Barcelona) — a landmark publication that reclaims the historical memory of the sporting venues that have shaped Barcelona's sporting identity. Written by authors Joan Manuel Surroca, Juli Pernas, Luís Sánchez, Pedro Hernández and Raül Vázquez, the book takes readers on a unique journey through time, uncovering more than 130 sites linked to sporting activity — including gymnasiums, sports halls, aquatic facilities and urban spaces — from the late 19th century to the present day. The publication was developed through the Centre d'Estudis Olímpics Joan Antoni Samaranch, managed by the Fundació Barcelona Olímpica, affirming its commitment to research and the dissemination of knowledge about the history of sport. The book <em>«Espais esportius que han fet història a Barcelona»</em> is now available at the Museu Olímpic i de l'Esport de Barcelona for <strong>€15</strong>.
SUMMARY:THE FUNDACIÓ BARCELONA OLÍMPICA PRESENTS THE BOOK «Espais esportius que han fet història a Barcelona»
ORGANIZER:Museu Olímpic i de l&#039\;Esport
URL;VALUE=URI:https://www.museuolimpicbcn.cat/en/agenda/the-fundacio-barcelona-olimpica-presents-the-book-espais-esportius-que-han-fet-historia-a-barcelona/
TRANSP:OPAQUE
BEGIN:VALARM
ACTION:DISPLAY
TRIGGER;VALUE=DATE-TIME:20260422T145238Z
DESCRIPTION:Reminder for THE FUNDACIÓ BARCELONA OLÍMPICA PRESENTS THE BOOK «Espais esportius que han fet història a Barcelona»
END:VALARM
END:VEVENT
END:VCALENDAR
