BEGIN:VCALENDAR
VERSION:2.0
PRODID:-//Museu Olímpic i de l&#039;Esport Joan Antoni Samaranch. Barcelona //NONSGML Events //EN
CALSCALE:GREGORIAN
X-WR-CALNAME:Museu Olímpic i de l&#039;Esport Joan Antoni Samaranch. Barcelona
BEGIN:VEVENT
CREATED:20260421T141947Z
UID:49366
DTEND;VALUE=DATE:20260506T190000
DTSTART;VALUE=DATE:20260506T180000
DTSTAMP:20260422T111159Z
LOCATION:
DESCRIPTION:La Fundació Barcelona Olímpica, en colaboración con la Biblioteca Bon Pastor – Josefina Castellví y el Centre d'Estudis – Arxiu Vilabesòs Baró de Viver - Bon Pastor, presenta el próximo 6 de mayo el libro «Espais esportius que han fet història a Barcelona», una obra de referencia que recupera la memoria histórica de los espacios deportivos que han contribuido a forjar la identidad deportiva de Barcelona. La publicación, elaborada por los autores Joan Manuel Surroca, Juli Pernas, Luís Sánchez, Pedro Hernández y Raül Vázquez, propone un recorrido único a través del tiempo descubriendo más de 130 escenarios vinculados a la práctica deportiva — entre ellos gimnasios, pabellones, instalaciones acuáticas y espacios urbanos — desde finales del siglo XIX hasta la actualidad. El libro ha sido desarrollado desde el Centre d'Estudis Olímpics Joan Antoni Samaranch, gestionado por la Fundació Barcelona Olímpica, consolidando su compromiso con la investigación y la difusión del conocimiento sobre la historia del deporte. El libro <em>«Espais esportius que han fet història a Barcelona»</em> está a la venda en el Museu Olímpic i de l'Esport de Barcelona al precio de <strong>15€</strong>.
SUMMARY:Presentación del libro: Espacios deportivos que han hecho historia en Barcelona
ORGANIZER:Museu Olímpic i de l&#039\;Esport Joan Antoni Samaranch. Barcelona
URL;VALUE=URI:https://www.museuolimpicbcn.cat/es/agenda/presentacion-del-libro-espacios-deportivos-que-han-hecho-historia-en-barcelona/
TRANSP:OPAQUE
BEGIN:VALARM
ACTION:DISPLAY
TRIGGER;VALUE=DATE-TIME:20260422T131159Z
DESCRIPTION:Reminder for Presentación del libro: Espacios deportivos que han hecho historia en Barcelona
END:VALARM
END:VEVENT
END:VCALENDAR
