BEGIN:VCALENDAR
VERSION:2.0
PRODID:-//Museu Olímpic i de l&#039;Esport Joan Antoni Samaranch. Barcelona //NONSGML Events //EN
CALSCALE:GREGORIAN
X-WR-CALNAME:Museu Olímpic i de l&#039;Esport Joan Antoni Samaranch. Barcelona
BEGIN:VEVENT
CREATED:20260421T154748Z
UID:49375
DTEND;VALUE=DATE:20260423T190000
DTSTART;VALUE=DATE:20260423T100000
DTSTAMP:20260422T111031Z
LOCATION:
DESCRIPTION:<strong>El Museu Olímpic i de l'Esport de Barcelona celebra Sant Jordi regalando un libro con cada entrada</strong> Con motivo de la <strong>Diada de Sant Jordi</strong>, el Museu Olímpic i de l'Esport de Barcelona se suma a la tradición del libro y la rosa de una manera muy especial: todos los visitantes que accedan al museo el <strong>23 de abril</strong> recibirán, incluido con su entrada, un <strong>libro de regalo</strong> que podrán escoger entre los títulos de la colección. Los visitantes podrán elegir entre dos líneas editoriales de referencia. Por un lado, los títulos de la colección <strong><em>Aula d'Història</em></strong>, que recoge la historia del deporte, el olimpismo y la vinculación de Barcelona con ambos. Por otro, algunas ediciones especiales de <strong><em>Relats Solidaris de l'Esport</em></strong>, una colección de historias inspiradoras protagonizadas por deportistas de excepción, como <strong>Aitana Bonmatí</strong> o <strong>Ronald Araujo</strong>. Una iniciativa pensada para acercar la cultura deportiva a todos los públicos y para celebrar, un año más, el día del libro y la rosa con la pasión que caracteriza al Museu Olímpic. 📅 <strong>23 de abril · Sant Jordi · Museu Olímpic i de l'Esport de Barcelona</strong> 🎁 Un libro incluido con cada entrada. Hasta agotar existencias. Con motivo de la <strong>Diada de Sant Jordi</strong>, únicamente en el Museu Olímpic i de l'Esport de Barcelona, podrás adquirir el libro <strong><em>«Espais esportius que han fet història a Barcelona»</em></strong> al precio especial de <strong>12€</strong>. Una oportunidad única para celebrar el día del libro y la rosa con una obra imprescindible sobre el patrimonio deportivo de nuestra ciudad.
SUMMARY:Celebra Sant Jordi regalando un libro con cada entrada
ORGANIZER:Museu Olímpic i de l&#039\;Esport Joan Antoni Samaranch. Barcelona
URL;VALUE=URI:https://www.museuolimpicbcn.cat/es/agenda/49375/
TRANSP:OPAQUE
BEGIN:VALARM
ACTION:DISPLAY
TRIGGER;VALUE=DATE-TIME:20260422T131031Z
DESCRIPTION:Reminder for Celebra Sant Jordi regalando un libro con cada entrada
END:VALARM
END:VEVENT
END:VCALENDAR
